BEGIN:VCALENDAR
VERSION:2.0
PRODID:-//wp-events-plugin.com//7.2.3.1//EN
TZID:Asia/Tokyo
X-WR-TIMEZONE:Asia/Tokyo
BEGIN:VEVENT
UID:519@osaka-kosodate-asahi.net
DTSTART;TZID=Asia/Tokyo:20250820T140000
DTEND;TZID=Asia/Tokyo:20250820T153000
DTSTAMP:20250715T003023Z
URL:https://osaka-kosodate-asahi.net/events/%e5%ad%90%e3%81%a9%e3%82%82%e3
 %82%af%e3%83%83%e3%82%ad%e3%83%b3%e3%82%b0%e3%80%90%e6%8a%bd%e9%81%b8%e5%8
 8%b6%e3%80%91%ef%bc%88%ef%bc%98%e6%9c%88%ef%bc%89/
SUMMARY:子どもクッキング【抽選制】（８月）
DESCRIPTION:
ATTACH;FMTTYPE=image/jpeg:https://osaka-kosodate-asahi.net/wp-content/uplo
 ads/2025/07/IMG_0013-scaled.jpg
CATEGORIES:児童
LOCATION:旭区子ども・子育てプラザ　４階　多目的室・ダ
 イニングルーム\, 旭区森小路２-５-２９\, 大阪市\, 大阪
 府\, 535-0013\, 日本
X-APPLE-STRUCTURED-LOCATION;VALUE=URI;X-ADDRESS=旭区森小路２-５-２
 ９\, 大阪市\, 大阪府\, 535-0013\, 日本;X-APPLE-RADIUS=100;X-TITLE
 =旭区子ども・子育てプラザ　４階　多目的室・ダイニ
 ングルーム:geo:0,0
END:VEVENT
BEGIN:VTIMEZONE
TZID:Asia/Tokyo
X-LIC-LOCATION:Asia/Tokyo
BEGIN:STANDARD
DTSTART:20240820T140000
TZOFFSETFROM:+0900
TZOFFSETTO:+0900
TZNAME:JST
END:STANDARD
END:VTIMEZONE
END:VCALENDAR